BEGIN:VCALENDAR
VERSION:2.0
PRODID:-//tuMano - ECPv6.15.20//NONSGML v1.0//EN
CALSCALE:GREGORIAN
METHOD:PUBLISH
X-ORIGINAL-URL:https://tumano.art
X-WR-CALDESC:Eventos para tuMano
REFRESH-INTERVAL;VALUE=DURATION:PT1H
X-Robots-Tag:noindex
X-PUBLISHED-TTL:PT1H
BEGIN:VTIMEZONE
TZID:UTC
BEGIN:STANDARD
TZOFFSETFROM:+0000
TZOFFSETTO:+0000
TZNAME:UTC
DTSTART:20230101T000000
END:STANDARD
END:VTIMEZONE
BEGIN:VEVENT
DTSTART;TZID=UTC:20241002T000000
DTEND;TZID=UTC:20241002T235959
DTSTAMP:20260420T033218
CREATED:20210920T162810Z
LAST-MODIFIED:20241002T193943Z
UID:5426-1727827200-1727913599@tumano.art
SUMMARY:▶️ Tutorial 126. Mamíferos 26
DESCRIPTION:Tigre\n\n\n\n\n\n\n\n\n\n\n\n\n\n\n\n\n\n\n\n\n\n\n\n\n\n\n\n\n\n\n\n\n\n\n\n\n\n\n\n\n\n\n\n\n\n\nBasándonos en lo observado y aprendido de los últimos tres tutoriales\, damos ahora color a la cara/cabeza de un animal. En nuestro “viaje por los mamíferos del mundo” hemos llegado ya a Asia y elegimos el tigre bengala\, el más extendido de todos los tigres. En él observamos lo especial de que su piel/pelaje tiene mucho dibujo; eso significa que intentamos dar volumen a la cara\, pero sin descuidar el dibujo de su pelaje. ¡Más que nunca tenemos que “acariciar” la cara; tenemos que ir con el lápiz y luego con las tizas pastel con la forma; sino no nos saldría bien la plasticidad de la cara! Recomiendo este trabajo a partir de una 7ª clase. \nDuración: 96´ \nVer video individual en: Vimeo \nVer suscripción mensual para todos los tutoriales en: Vimeo
URL:https://tumano.art/event/tutorial-126-mamiferos-26/
CATEGORIES:Tutoriales
ATTACH;FMTTYPE=image/jpeg:https://tumano.art/wp-content/uploads/2024/10/16x9-baja.jpg
END:VEVENT
BEGIN:VEVENT
DTSTART;TZID=UTC:20241009T000000
DTEND;TZID=UTC:20241009T235959
DTSTAMP:20260420T033218
CREATED:20210920T162810Z
LAST-MODIFIED:20241009T203726Z
UID:5435-1728432000-1728518399@tumano.art
SUMMARY:▶️ Tutorial 127. Mamíferos 27
DESCRIPTION:Orangután\n\n\n\n\n\n\n\n\n\n\n\n\n\n\n\n\n\n\n\n\n\n\n\n\n\n\n\n\n\n\n\n\n\n\n\n\n\n\n\n\n\n\n\n\n\n\nA la Orangutana la retratamos sólo con los lápices de color\, pero siguiendo las leyes y fórmulas aprendidas en los cuatro tutoriales anteriores. La dificultad aquí consiste en seguir la extrema plasticidad de su cara y en acercarnos a las leyes de cuándo parece algo más cerca o más lejos\, igual que más redondeado o plano. Es un trabajo ideal para el cuaderno ya que la tiza de pastel mancha demasiado y no aguanta bien el roce de las hojas. \nDuración: 102´ \nVer video individual en: Vimeo \nVer suscripción mensual para todos los tutoriales en: Vimeo
URL:https://tumano.art/event/tutorial-127-mamiferos-27/
CATEGORIES:Tutoriales
ATTACH;FMTTYPE=image/jpeg:https://tumano.art/wp-content/uploads/2024/10/16x9-baja-1.jpg
END:VEVENT
BEGIN:VEVENT
DTSTART;TZID=UTC:20241016T000000
DTEND;TZID=UTC:20241016T235959
DTSTAMP:20260420T033218
CREATED:20210920T162810Z
LAST-MODIFIED:20241024T090702Z
UID:5443-1729036800-1729123199@tumano.art
SUMMARY:▶️ Tutorial 128. Mamíferos 28
DESCRIPTION:Oso Panda\n\n\n\n\n\n\n\n\n\n\n\n\n\n\n\n\n\n\n\n\n\n\n\n\n\n\n\n\n\n\n\n\n\n\n\n\n\n\n\n\n\n\n\n\n\n\nAl oso panda le dedicamos un dibujo de cuerpo entero\, sin olvidar lo que hemos aprendido en los anteriores acerca de la plasticidad de la cabeza. Su postura sentada\, disfrutando de su alimentación principal\, el bambú\, no es la más sencilla\, pero nos lo podemos poner como reto\, ya que es un dibujo para hacerse con clases mayores. Dibujamos primero los detalles con lápiz y damos el color principal con tizas de pastel. Os invito a probar dibujarlo sobre un fondo que no sea blanco; ¡cada color presenta una sorpresa! \nDuración: 100´ \nVer video individual en: Vimeo \nVer suscripción mensual para todos los tutoriales en: Vimeo
URL:https://tumano.art/event/tutorial-128-mamiferos-28/
CATEGORIES:Tutoriales
ATTACH;FMTTYPE=image/jpeg:https://tumano.art/wp-content/uploads/2024/10/16x9-baja-2.jpg
END:VEVENT
BEGIN:VEVENT
DTSTART;TZID=UTC:20241024T000000
DTEND;TZID=UTC:20241024T235959
DTSTAMP:20260420T033218
CREATED:20210920T162810Z
LAST-MODIFIED:20241024T085944Z
UID:5450-1729728000-1729814399@tumano.art
SUMMARY:▶️ Tutorial 129. Mamíferos 29
DESCRIPTION:Koalas \n\n\n\n\n\n\n\n\n\n\n\n\n\n\n\n\n\n\n\n\n\n\n\n\n\n\n\n\n\n\n\n\n\n\n\n\n\n\n\n\n\n\n\n\n\n\nLlegamos al último continente: Australia. No puede faltar el oso Koala en nuestra serie. Nos lanzamos con dos de ellos\, ya que ofrecen diferentes perspectivas. Al principio los esbozamos con lápiz de color\, luego recurrimos también al pastel. Es un tutorial muy largo que\, al trabajarse en el aula\, recomiendo enfocar la atención sólo en uno de los dos koalas.  \nDuración: 129´ \nVer video individual en: Vimeo \nVer suscripción mensual para todos los tutoriales en: Vimeo
URL:https://tumano.art/event/tutorial-129-mamiferos-29/
CATEGORIES:Tutoriales
ATTACH;FMTTYPE=image/jpeg:https://tumano.art/wp-content/uploads/2024/10/16x9-baja-3.jpg
END:VEVENT
BEGIN:VEVENT
DTSTART;TZID=UTC:20241030T000000
DTEND;TZID=UTC:20241030T235959
DTSTAMP:20260420T033218
CREATED:20210920T162810Z
LAST-MODIFIED:20241030T195941Z
UID:5458-1730246400-1730332799@tumano.art
SUMMARY:▶️ Tutorial 130. Mamíferos 30
DESCRIPTION:Kanguro\n\n\n\n\n\n\n\n\n\n\n\n\n\n\n\n\n\n\n\n\n\n\n\n\n\n\n\n\n\n\n\n\n\n\n\n\n\n\n\n\n\n\n\n\n\n\nEl canguro cierra la serie de los mamíferos. Como a los anteriores\, también estos dos animales los dibujamos con lápiz de color y con tizas de pastel. Intentamos crear un paisaje de tonos cálidos. Como predominan los colores marrones y otros oscuros\, le damos vida con la luz dorada y también con la presencia de verdes en el centro de la hoja. Recomendado a partir de una 7ª clase. \nDuración: 106´ \nVer video individual en: Vimeo \nVer suscripción mensual para todos los tutoriales en: Vimeo
URL:https://tumano.art/event/tutorial-130-mamiferos-30/
CATEGORIES:Tutoriales
ATTACH;FMTTYPE=image/jpeg:https://tumano.art/wp-content/uploads/2024/10/16x9-baja-4.jpg
END:VEVENT
END:VCALENDAR